BEGIN:VCALENDAR
VERSION:2.0
PRODID:gruene-fellbach.de
METHOD:PUBLISH
BEGIN:VTIMEZONE
TZID:Europe/Berlin
X-LIC-LOCATION:Europe/Berlin
BEGIN:DAYLIGHT
TZOFFSETFROM:+0100
TZOFFSETTO:+0200
TZNAME:CEST
DTSTART:19700329T020000
RRULE:FREQ=YEARLY;INTERVAL=1;BYDAY=-1SU;BYMONTH=3
END:DAYLIGHT
BEGIN:STANDARD
TZOFFSETFROM:+0200
TZOFFSETTO:+0100
TZNAME:CET
DTSTART:19701025T030000
RRULE:FREQ=YEARLY;INTERVAL=1;BYDAY=-1SU;BYMONTH=10
END:STANDARD
END:VTIMEZONE
BEGIN:VEVENT
UID:e7266cff99db0389af2260628778bec9@gruene-fellbach.de
URL;VALUE=URI:https://gruene-fellbach.de/termine/auf-einen-kaffee-mit-swa
 ntje/
LOCATION:Café Mildenberger, Wacholderstraße 2, Leutenbach
SUMMARY:Auf einen Kaffee mit Swantje
DESCRIPTION;ALTREP="data:text/html,%3Cp%3E%3C%2Fp%3E":
CLASS:PUBLIC
DTSTART;TZID=Europe/Berlin:20260925T160000
DTEND;TZID=Europe/Berlin:20260925T170000
DTSTAMP:20260420T040824
END:VEVENT
END:VCALENDAR