BEGIN:VCALENDAR
VERSION:2.0
PRODID:gruene-fellbach.de
METHOD:PUBLISH
BEGIN:VTIMEZONE
TZID:Europe/Berlin
X-LIC-LOCATION:Europe/Berlin
BEGIN:DAYLIGHT
TZOFFSETFROM:+0100
TZOFFSETTO:+0200
TZNAME:CEST
DTSTART:19700329T020000
RRULE:FREQ=YEARLY;INTERVAL=1;BYDAY=-1SU;BYMONTH=3
END:DAYLIGHT
BEGIN:STANDARD
TZOFFSETFROM:+0200
TZOFFSETTO:+0100
TZNAME:CET
DTSTART:19701025T030000
RRULE:FREQ=YEARLY;INTERVAL=1;BYDAY=-1SU;BYMONTH=10
END:STANDARD
END:VTIMEZONE
BEGIN:VEVENT
UID:4cf3585c906e8c2519fbaf2c0c80c5ba@gruene-fellbach.de
URL;VALUE=URI:https://gruene-fellbach.de/termine/telefonsprechstunde-geme
 inderatsfraktion-fellbach/
LOCATION:
SUMMARY:Telefonsprechstunde Gemeinderatsfraktion Fellbach
DESCRIPTION;ALTREP="data:text/html,%3Cp%3ESara%20Schmalzried%20aus%20der%
 20Fraktion%20B%C3%9CNDNIS%2090%2FDIE%20GR%C3%9CNEN%20im%20Fellbacher%20Ge
 meinderat%20ist%20f%C3%BCr%20Fragen%2C%20Anregungen%20und%20alle%20weiter
 en%20Anliegen%20telefonisch%20unter%20%2B491523%208455562%20erreichbar.%3
 C%2Fp%3E":Sara Schmalzried aus der Fraktion BÜNDNIS 90/DIE GRÜNEN im Fe
 llbacher Gemeinderat ist für Fragen\, Anregungen und alle weiteren Anlie
 gen telefonisch unter +491523 8455562 erreichbar.
CLASS:PUBLIC
DTSTART;TZID=Europe/Berlin:20260515T110000
DTEND;TZID=Europe/Berlin:20260515T130000
DTSTAMP:20260420T041019
END:VEVENT
END:VCALENDAR