BEGIN:VCALENDAR
VERSION:2.0
PRODID:gruene-fellbach.de
METHOD:PUBLISH
BEGIN:VTIMEZONE
TZID:Europe/Berlin
X-LIC-LOCATION:Europe/Berlin
BEGIN:DAYLIGHT
TZOFFSETFROM:+0100
TZOFFSETTO:+0200
TZNAME:CEST
DTSTART:19700329T020000
RRULE:FREQ=YEARLY;INTERVAL=1;BYDAY=-1SU;BYMONTH=3
END:DAYLIGHT
BEGIN:STANDARD
TZOFFSETFROM:+0200
TZOFFSETTO:+0100
TZNAME:CET
DTSTART:19701025T030000
RRULE:FREQ=YEARLY;INTERVAL=1;BYDAY=-1SU;BYMONTH=10
END:STANDARD
END:VTIMEZONE
BEGIN:VEVENT
UID:00c04ee871d169177fa830b9cbaa2594@gruene-fellbach.de
URL;VALUE=URI:https://gruene-fellbach.de/termine/telefonsprechstunde-geme
 inderatsfraktion-fellbach-12/
LOCATION:
SUMMARY:Telefonsprechstunde Gemeinderatsfraktion Fellbach
DESCRIPTION;ALTREP="data:text/html,%3Cp%3EBeate%20W%C3%B6rner%20aus%20der
 %20Fraktion%20B%C3%9CNDNIS%2090%2FDIE%20GR%C3%9CNEN%20im%20Fellbacher%20G
 emeinderat%20ist%20f%C3%BCr%20Fragen%2C%20Anregungen%20und%20alle%20weite
 ren%20Anliegen%20telefonisch%20unter%C2%A0%2B49711624864%20erreichbar.%3C
 %2Fp%3E":Beate Wörner aus der Fraktion BÜNDNIS 90/DIE GRÜNEN im Fellba
 cher Gemeinderat ist für Fragen\, Anregungen und alle weiteren Anliegen 
 telefonisch unter +49711624864 erreichbar.
CLASS:PUBLIC
DTSTART;TZID=Europe/Berlin:20260507T160000
DTEND;TZID=Europe/Berlin:20260507T170000
DTSTAMP:20260420T041231
END:VEVENT
END:VCALENDAR